BEGIN:VCALENDAR
VERSION:2.0
PRODID:-//Norwood Green Better Place CIC - ECPv5.8.0//NONSGML v1.0//EN
CALSCALE:GREGORIAN
METHOD:PUBLISH
X-WR-CALNAME:Norwood Green Better Place CIC
X-ORIGINAL-URL:https://www.norwoodgreen.org
X-WR-CALDESC:Events for Norwood Green Better Place CIC
BEGIN:VTIMEZONE
TZID:UTC
BEGIN:STANDARD
TZOFFSETFROM:+0000
TZOFFSETTO:+0000
TZNAME:UTC
DTSTART:20210101T000000
END:STANDARD
END:VTIMEZONE
BEGIN:VEVENT
DTSTART;TZID=UTC:20210609T103000
DTEND;TZID=UTC:20210609T113000
DTSTAMP:20260421T100505
CREATED:20210419T113250Z
LAST-MODIFIED:20210512T191456Z
UID:904-1623234600-1623238200@www.norwoodgreen.org
SUMMARY:Find out more about the CIC - Session 2
DESCRIPTION:One hour Zoom sessions for residents to find out more about the set up and workings of the CIC. \nBook yourself onto one of these ‘off-mute’ open conversations to ask any questions you have about the new CIC. \nThese are small sessions of up to 10 residents only and places will be offered on a first-come-first-served basis \nClick here to find out more and book a place >
URL:https://www.norwoodgreen.org/event/find-out-more-about-the-cic-2/
LOCATION:Zoom\, Online
CATEGORIES:Residents and CIC meetings
END:VEVENT
BEGIN:VEVENT
DTSTART;TZID=UTC:20210526T193000
DTEND;TZID=UTC:20210526T203000
DTSTAMP:20260421T100505
CREATED:20210419T113345Z
LAST-MODIFIED:20210512T190730Z
UID:906-1622057400-1622061000@www.norwoodgreen.org
SUMMARY:Find out more about the CIC - Session 1
DESCRIPTION:One hour Zoom sessions for residents to find out more about the set up and workings of the CIC. \nBook yourself onto one of these ‘off-mute’ open conversations to ask any questions you have about the new CIC. \nThese are small sessions of up to 10 residents only and places will be offered on a first-come-first-served basis \nClick here to find out more and book a place >
URL:https://www.norwoodgreen.org/event/find-out-more-about-the-cic-3/
LOCATION:Zoom\, Online
CATEGORIES:Residents and CIC meetings
END:VEVENT
BEGIN:VEVENT
DTSTART;TZID=UTC:20210407T193000
DTEND;TZID=UTC:20210407T210000
DTSTAMP:20260421T100505
CREATED:20210304T190654Z
LAST-MODIFIED:20210320T185830Z
UID:548-1617823800-1617829200@www.norwoodgreen.org
SUMMARY:Norwood Green Residents Zoom Meeting
DESCRIPTION:An opportunity to find out about the Norwood Green Better Place Community Interest Company (CIC)\, meet the eight directors of the CIC and understand what their roles are\, and most importantly discuss the important issues that matter in our community. \nAs we are unable to meet in person\, this meeting will be held via Zoom. \nA link to the meeting will be sent out to everyone via email nearer to the date of the meeting.  Please ensure that we have your email address by registering your details here   \nNote:  This meeting is open to Norwood Green residents only.  When registering your details you will be asked to confirm your address in the village \nMinutes of the meeting will be circulated to all residents after the meeting. \nPlease note that the meeting will be recorded.  Any Norwood Green resident who is unable to attend the meeting will be sent a private link to the video recording .
URL:https://www.norwoodgreen.org/event/norwood-green-residents-zoom-meeting/
LOCATION:Zoom\, Online
CATEGORIES:Residents and CIC meetings
ORGANIZER;CN="Jonathan%20Dent":MAILTO:betterplacetolive@norwoodgreen.org
END:VEVENT
END:VCALENDAR