BEGIN:VCALENDAR
VERSION:2.0
PRODID:-//Norwood Green Better Place CIC - ECPv5.8.0//NONSGML v1.0//EN
CALSCALE:GREGORIAN
METHOD:PUBLISH
X-WR-CALNAME:Norwood Green Better Place CIC
X-ORIGINAL-URL:https://www.norwoodgreen.org
X-WR-CALDESC:Events for Norwood Green Better Place CIC
BEGIN:VTIMEZONE
TZID:UTC
BEGIN:STANDARD
TZOFFSETFROM:+0000
TZOFFSETTO:+0000
TZNAME:UTC
DTSTART:20230101T000000
END:STANDARD
END:VTIMEZONE
BEGIN:VEVENT
DTSTART;TZID=UTC:20230314T190000
DTEND;TZID=UTC:20230314T213000
DTSTAMP:20260425T011346
CREATED:20230205T160509Z
LAST-MODIFIED:20230302T191606Z
UID:1672-1678820400-1678829400@www.norwoodgreen.org
SUMMARY:Norwood Green Residents Open Meeting
DESCRIPTION:This meeting will be held at the Village Hall. \nDoors will open at 7.00pm for a glass of wine/cup of tea or coffee and a chance to chat to friends and neighbours. \nAll village residents are welcome. \nThere will be chance to ask questions during the meeting.  In order to save time and to ensure everyone has the opportunity to speak\, please forward your questions to betterplacetolive@norwoodgreen.org prior to the meeting \nClick here to read some information for residents prior to the meeting
URL:https://www.norwoodgreen.org/event/norwood-green-residents-open-meeting-4/
LOCATION:Norwood Green Village Hall\, Village Street\, Halifax\, West Yorkshire\, HX3 8QN\, United Kingdom
CATEGORIES:Residents and CIC meetings
ORGANIZER;CN="Norwood%20Green%20Better%20Place%20CIC":MAILTO:betterplacetolive@norwoodgreen.org
END:VEVENT
BEGIN:VEVENT
DTSTART;TZID=UTC:20230326T120000
DTEND;TZID=UTC:20230326T140000
DTSTAMP:20260425T011346
CREATED:20230302T184335Z
LAST-MODIFIED:20230302T184335Z
UID:1675-1679832000-1679839200@www.norwoodgreen.org
SUMMARY:First Aid and Defibrillator Training
DESCRIPTION:The St. Johns Ambulance Service have kindly offered to give first aid and defibrillator demonstrations\, both visually and practically\, at the Village Hall \nPlaces are limited to 20 people and these are for residents of Norwood Green only. \nThe places will be allocated on a first come-first serve basis.  Please email betterplacetolive@norwoodgreen.org to reserve a place
URL:https://www.norwoodgreen.org/event/first-aid-and-defibrillator-training/
LOCATION:Norwood Green Village Hall\, Village Street\, Halifax\, West Yorkshire\, HX3 8QN\, United Kingdom
CATEGORIES:Village Community Events
ORGANIZER;CN="Norwood%20Green%20Better%20Place%20CIC":MAILTO:betterplacetolive@norwoodgreen.org
END:VEVENT
BEGIN:VEVENT
DTSTART;TZID=UTC:20230627T191500
DTEND;TZID=UTC:20230627T210000
DTSTAMP:20260425T011346
CREATED:20230616T080744Z
LAST-MODIFIED:20230616T080744Z
UID:1728-1687893300-1687899600@www.norwoodgreen.org
SUMMARY:Norwood Green Residents Engagement Meeting
DESCRIPTION:In a break from the normal Open Residents meetings\, this meeting will be an opportunity for all residents\, old and new\, to discuss all things village life\, projects or events you’d like to see.  Or find out how to get involved in new projects. \nAll welcome \nDrinks and nibbles will be provided
URL:https://www.norwoodgreen.org/event/norwood-green-residents-engagement-meeting/
LOCATION:Norwood Green Village Hall\, Village Street\, Halifax\, West Yorkshire\, HX3 8QN\, United Kingdom
ORGANIZER;CN="Norwood%20Green%20Better%20Place%20CIC":MAILTO:betterplacetolive@norwoodgreen.org
END:VEVENT
BEGIN:VEVENT
DTSTART;TZID=UTC:20231112T123000
DTEND;TZID=UTC:20231112T130000
DTSTAMP:20260425T011346
CREATED:20231106T141332Z
LAST-MODIFIED:20231106T141332Z
UID:1796-1699792200-1699794000@www.norwoodgreen.org
SUMMARY:Remembrance Sunday Service
DESCRIPTION:Led by Canon James Allison \nAll welcome
URL:https://www.norwoodgreen.org/event/remembrance-sunday-service-3/
LOCATION:Norwood Green Cenotaph
CATEGORIES:Village Community Events
ATTACH;FMTTYPE=image/jpeg:https://www.norwoodgreen.org/wp-content/uploads/2023/11/remembrance-sunday.jpg
END:VEVENT
BEGIN:VEVENT
DTSTART;TZID=UTC:20231126T130000
DTEND;TZID=UTC:20231126T143000
DTSTAMP:20260425T011346
CREATED:20231120T132016Z
LAST-MODIFIED:20231120T132016Z
UID:1804-1701003600-1701009000@www.norwoodgreen.org
SUMMARY:Top Green Hedge Planting
DESCRIPTION:Volunteers with spades and/or strimmers are asked to turn up on the Top Green at 1pm to help plant the new native hedge (subject to suitable weather conditions) \nAll welcome\, especially family groups
URL:https://www.norwoodgreen.org/event/top-green-hedge-planting/
LOCATION:Top Green
CATEGORIES:Village Community Events
ATTACH;FMTTYPE=image/jpeg:https://www.norwoodgreen.org/wp-content/uploads/2023/03/top-green-image.jpg
END:VEVENT
END:VCALENDAR