BEGIN:VCALENDAR
VERSION:2.0
PRODID:-//Norwood Green Better Place CIC - ECPv5.8.0//NONSGML v1.0//EN
CALSCALE:GREGORIAN
METHOD:PUBLISH
X-WR-CALNAME:Norwood Green Better Place CIC
X-ORIGINAL-URL:https://www.norwoodgreen.org
X-WR-CALDESC:Events for Norwood Green Better Place CIC
BEGIN:VTIMEZONE
TZID:UTC
BEGIN:STANDARD
TZOFFSETFROM:+0000
TZOFFSETTO:+0000
TZNAME:UTC
DTSTART:20220101T000000
END:STANDARD
END:VTIMEZONE
BEGIN:VEVENT
DTSTART;TZID=UTC:20221209T183000
DTEND;TZID=UTC:20221209T213000
DTSTAMP:20260424T193038
CREATED:20221121T184322Z
LAST-MODIFIED:20221121T184502Z
UID:1653-1670610600-1670621400@www.norwoodgreen.org
SUMMARY:Festive Wreath Making
DESCRIPTION:Email betterplacetolive@norwoodgreen.org to book a place
URL:https://www.norwoodgreen.org/event/festive-wreath-making/
LOCATION:Norwood Green Village Hall\, Village Street\, Halifax\, West Yorkshire\, HX3 8QN\, United Kingdom
CATEGORIES:Village Community Events
ATTACH;FMTTYPE=image/jpeg:https://www.norwoodgreen.org/wp-content/uploads/2022/11/Xmas-wreath-making-2022.jpg
END:VEVENT
BEGIN:VEVENT
DTSTART;TZID=UTC:20221210T110000
DTEND;TZID=UTC:20221210T150000
DTSTAMP:20260424T193038
CREATED:20221121T184448Z
LAST-MODIFIED:20221121T184448Z
UID:1655-1670670000-1670684400@www.norwoodgreen.org
SUMMARY:Christmas Fair
DESCRIPTION:
URL:https://www.norwoodgreen.org/event/christmas-fair/
LOCATION:Norwood Green Village Hall\, Village Street\, Halifax\, West Yorkshire\, HX3 8QN\, United Kingdom
CATEGORIES:Village Community Events
ATTACH;FMTTYPE=image/jpeg:https://www.norwoodgreen.org/wp-content/uploads/2022/11/Xmas-fair-22.jpg
END:VEVENT
BEGIN:VEVENT
DTSTART;TZID=UTC:20221211T140000
DTEND;TZID=UTC:20221211T160000
DTSTAMP:20260424T193038
CREATED:20221121T184613Z
LAST-MODIFIED:20221121T184613Z
UID:1657-1670767200-1670774400@www.norwoodgreen.org
SUMMARY:Kids Christmas Disco
DESCRIPTION:
URL:https://www.norwoodgreen.org/event/kids-christmas-disco/
LOCATION:Norwood Green Village Hall\, Village Street\, Halifax\, West Yorkshire\, HX3 8QN\, United Kingdom
CATEGORIES:Village Community Events
ATTACH;FMTTYPE=image/jpeg:https://www.norwoodgreen.org/wp-content/uploads/2022/11/Kids-xmas-party.jpg
END:VEVENT
BEGIN:VEVENT
DTSTART;TZID=UTC:20221213T190000
DTEND;TZID=UTC:20221213T213000
DTSTAMP:20260424T193038
CREATED:20221101T133443Z
LAST-MODIFIED:20221207T125931Z
UID:1641-1670958000-1670967000@www.norwoodgreen.org
SUMMARY:Norwood Green Residents Open Meeting
DESCRIPTION:This meeting will be held at the Village Hall and will have an appropriately festive theme\, with mince pies and drinks all round from 7.00pm onwards. \nAll village residents are welcome. \nThere will be chance to ask questions during the meeting.  In order to save time and to ensure everyone has the opportunity to speak\, please forward your questions to betterplacetolive@norwoodgreen.org prior to the meeting
URL:https://www.norwoodgreen.org/event/norwood-green-residents-open-meeting-3/
LOCATION:Norwood Green Village Hall\, Village Street\, Halifax\, West Yorkshire\, HX3 8QN\, United Kingdom
CATEGORIES:Residents and CIC meetings
ORGANIZER;CN="Norwood%20Green%20Better%20Place%20CIC":MAILTO:betterplacetolive@norwoodgreen.org
END:VEVENT
END:VCALENDAR